BEGIN:VCALENDAR
VERSION:2.0
PRODID:-//Friends of Salmon Bay - ECPv6.15.20//NONSGML v1.0//EN
CALSCALE:GREGORIAN
METHOD:PUBLISH
X-WR-CALNAME:Friends of Salmon Bay
X-ORIGINAL-URL:https://www.friendsofsalmonbay.org
X-WR-CALDESC:Events for Friends of Salmon Bay
REFRESH-INTERVAL;VALUE=DURATION:PT1H
X-Robots-Tag:noindex
X-PUBLISHED-TTL:PT1H
BEGIN:VTIMEZONE
TZID:America/Los_Angeles
BEGIN:DAYLIGHT
TZOFFSETFROM:-0800
TZOFFSETTO:-0700
TZNAME:PDT
DTSTART:20230312T100000
END:DAYLIGHT
BEGIN:STANDARD
TZOFFSETFROM:-0700
TZOFFSETTO:-0800
TZNAME:PST
DTSTART:20231105T090000
END:STANDARD
BEGIN:DAYLIGHT
TZOFFSETFROM:-0800
TZOFFSETTO:-0700
TZNAME:PDT
DTSTART:20240310T100000
END:DAYLIGHT
BEGIN:STANDARD
TZOFFSETFROM:-0700
TZOFFSETTO:-0800
TZNAME:PST
DTSTART:20241103T090000
END:STANDARD
BEGIN:DAYLIGHT
TZOFFSETFROM:-0800
TZOFFSETTO:-0700
TZNAME:PDT
DTSTART:20250309T100000
END:DAYLIGHT
BEGIN:STANDARD
TZOFFSETFROM:-0700
TZOFFSETTO:-0800
TZNAME:PST
DTSTART:20251102T090000
END:STANDARD
END:VTIMEZONE
BEGIN:VEVENT
DTSTART;TZID=America/Los_Angeles:20241106T180000
DTEND;TZID=America/Los_Angeles:20241106T200000
DTSTAMP:20260420T194535
CREATED:20241012T001601Z
LAST-MODIFIED:20241103T191217Z
UID:8067-1730916000-1730923200@www.friendsofsalmonbay.org
SUMMARY:Screenagers: Growing Up in the Digital Age (Middle School Version)
DESCRIPTION:We live in a digital world where technological advancement and their integration in our lives grows deeper and faster each day. There is growing recognition that social media and excessive screen time contribute to serious mental health concerns among our youth. To mitigate the negative impact of screens\, we must tune into the latest research\, set boundaries\, and establish healthy screen use habits at school and home. \nTo support this journey\, the FOSB PIE Committee and school staff invite our community to a viewing and discussion of Screenagers: Original Edition for middle- and high-schoolers. Free onsite childcare and pizza available for potty-independent children – RSVP for childcare here to guarantee we have sufficient staffing and food for your child(ren).
URL:https://www.friendsofsalmonbay.org/event/screenagers-growing-up-in-the-digital-age-middle-school-version/
LOCATION:School Cafetorium
ATTACH;FMTTYPE=application/pdf:https://www.friendsofsalmonbay.org/wp-content/uploads/2024/10/Screenagers-Middle-School-Flyer.pdf
ORGANIZER;CN="Sylvia Loh":MAILTO:fosbpie@gmail.com
END:VEVENT
BEGIN:VEVENT
DTSTART;VALUE=DATE:20241101
DTEND;VALUE=DATE:20241123
DTSTAMP:20260420T194535
CREATED:20241103T221957Z
LAST-MODIFIED:20241104T172229Z
UID:8390-1730419200-1732319999@www.friendsofsalmonbay.org
SUMMARY:Support CANSSPA Campaign
DESCRIPTION:Fundraising in public schools raises issues of equity. For this reason\, FOSB is a member of the Central and North Seattle PTA Alliance (CANSSPA).\nCANSSPA the sister organization of the West Seattle Public Schools Equity Fund and Southeast Seattle Fundraising Alliance (SESSFA). Their mission is to advocate for all children in the Seattle Public School District to receive adequate and equitable education. \nIn conjunction with FOSB Fall Direct Giving campaign\, please consider supporting the efforts of CANSSPA through the Alliance for Education.\nDonate to CANSSPA
URL:https://www.friendsofsalmonbay.org/event/support-cansspa-campaign/
END:VEVENT
BEGIN:VEVENT
DTSTART;VALUE=DATE:20241101
DTEND;VALUE=DATE:20241123
DTSTAMP:20260420T194535
CREATED:20241103T221316Z
LAST-MODIFIED:20241104T172249Z
UID:8385-1730419200-1732319999@www.friendsofsalmonbay.org
SUMMARY:Fall Direct Giving Campaign
DESCRIPTION:https://givebutter.com/directgiving2024
URL:https://www.friendsofsalmonbay.org/event/fall-direct-giving-campaign/
END:VEVENT
BEGIN:VEVENT
DTSTART;TZID=America/Los_Angeles:20241027T150000
DTEND;TZID=America/Los_Angeles:20241027T163000
DTSTAMP:20260420T194535
CREATED:20241021T172248Z
LAST-MODIFIED:20241021T172248Z
UID:8108-1730041200-1730046600@www.friendsofsalmonbay.org
SUMMARY:2nd Grade Pumpkin Carving Party
DESCRIPTION:Calling all 2nd grade families! Let’s celebrate the fall season by carving pumpkins together at the Salmon Bay Park (2001 NW Canoe Pl) by the picnic tables. Bring your own pumpkin\, supplies\, and responsible adults. Kids will get to design their own jack-o-lanterns and get it carved by a responsible adult. There will be some extras for those who need it. Feel free to bring treats to share. If you haven’t done so already\, please RSVP to Jess Rubinstein at rubinstein.jessica@gmail.com.
URL:https://www.friendsofsalmonbay.org/event/2nd-grade-pumpkin-carving-party/
LOCATION:Salmon Bay Park\, 2001 NW Canoe Pl\, Seattle\, WA\, 98117
ORGANIZER;CN="Jess Rubinstein":MAILTO:rubinstein.jessica@gmail.com
END:VEVENT
BEGIN:VEVENT
DTSTART;TZID=America/Los_Angeles:20241025T180000
DTEND;TZID=America/Los_Angeles:20241025T200000
DTSTAMP:20260420T194535
CREATED:20241011T165926Z
LAST-MODIFIED:20241011T165926Z
UID:8063-1729879200-1729886400@www.friendsofsalmonbay.org
SUMMARY:1st Grade Family Movie Night
DESCRIPTION:Kids and families will meet at Sunset Hill Community Center (3033 NW 66th St.) for a family movie night! Plenty of chairs\, kids can also bring blankets\, etc. Popcorn is provided. Volunteers are welcome to bring drinks or additional snacks or treats to share. If the weather is good\, some families may also choose to meet up at nearby Webster park playground starting around 5:00pm\, before we head over to the movie!  
URL:https://www.friendsofsalmonbay.org/event/1st-grade-family-movie-night/
LOCATION:Sunset Hill Community Center\, 3033 NW 66th St.\, Seattle\, WA\, United States
ORGANIZER;CN="Erika Wells":MAILTO:erika.mz.wells@gmail.com
END:VEVENT
BEGIN:VEVENT
DTSTART;TZID=America/Los_Angeles:20241025T173000
DTEND;TZID=America/Los_Angeles:20241025T193000
DTSTAMP:20260420T194535
CREATED:20240925T180644Z
LAST-MODIFIED:20240925T180644Z
UID:8022-1729877400-1729884600@www.friendsofsalmonbay.org
SUMMARY:3rd Grade Fall Festival
DESCRIPTION:3rd grade families: Fall festival time! Come join us for fun carnival style games in the school cafetorium! Enter in the evening at the north set of doors on 18th.  \nVolunteer Sign-up: Fall Festival 2024 – Google Sheets  \nQuestions? Contact\, Kim Kaino at kimkaino@yahoo.com
URL:https://www.friendsofsalmonbay.org/event/3rd-grade-fall-festival/
END:VEVENT
BEGIN:VEVENT
DTSTART;TZID=America/Los_Angeles:20241025T093000
DTEND;TZID=America/Los_Angeles:20241025T100000
DTSTAMP:20260420T194535
CREATED:20241004T021629Z
LAST-MODIFIED:20241005T175334Z
UID:8050-1729848600-1729850400@www.friendsofsalmonbay.org
SUMMARY:Advocacy CommuniTea
DESCRIPTION:Join us for a weekly chance to connect in-person over advocacy efforts. In the Salmon Bay Cafetorium immediately following Friday Sing.
URL:https://www.friendsofsalmonbay.org/event/advocacy-communitea-2/
LOCATION:School Cafetorium
ORGANIZER;CN="Ashley Worobec and Andrea Stringer":MAILTO:fosbadvocacy@gmail.com
END:VEVENT
BEGIN:VEVENT
DTSTART;TZID=America/Los_Angeles:20241018T093000
DTEND;TZID=America/Los_Angeles:20241018T100000
DTSTAMP:20260420T194535
CREATED:20241004T021533Z
LAST-MODIFIED:20241005T175327Z
UID:8048-1729243800-1729245600@www.friendsofsalmonbay.org
SUMMARY:Advocacy CommuniTea
DESCRIPTION:Join us for a weekly chance to connect in-person over advocacy efforts. In the Salmon Bay Cafetorium immediately following Friday Sing.
URL:https://www.friendsofsalmonbay.org/event/advocacy-communitea/
LOCATION:School Cafetorium
ORGANIZER;CN="Ashley Worobec and Andrea Stringer":MAILTO:fosbadvocacy@gmail.com
END:VEVENT
BEGIN:VEVENT
DTSTART;TZID=America/Los_Angeles:20241017T183000
DTEND;TZID=America/Los_Angeles:20241017T200000
DTSTAMP:20260420T194535
CREATED:20240925T180028Z
LAST-MODIFIED:20240925T180028Z
UID:8018-1729189800-1729195200@www.friendsofsalmonbay.org
SUMMARY:FOSB October Board Meeting
DESCRIPTION:Join us in the Salmon Bay Library for our monthly board meeting. Board meetings are open to all FOSB members – if you have a student at the school\, you are automatically a member and have a vote! Come learn about the work being done by FOSB in support of our school\, and ways YOU can get involved as you are able. \nWe are planning for childcare to be available for potty independent children through COHO (Boys & Girls Club); childcare rsvp’s are helpful but not required. Childcare costs are covered by FOSB. \nIf you are unable to attend in person\, you may join via Zoom. Meeting agendas and previous meeting minutes are posted on our website. Please email fosbchair@gmail.com with any questions.
URL:https://www.friendsofsalmonbay.org/event/fosb-october-board-meeting/
END:VEVENT
BEGIN:VEVENT
DTSTART;VALUE=DATE:20241015
DTEND;VALUE=DATE:20241016
DTSTAMP:20260420T194535
CREATED:20240925T180036Z
LAST-MODIFIED:20240925T180233Z
UID:8016-1728950400-1729036799@www.friendsofsalmonbay.org
SUMMARY:Picture Day!
DESCRIPTION:Picture re-takes will be on 11/19 for those who miss picture day.
URL:https://www.friendsofsalmonbay.org/event/picture-day/
END:VEVENT
BEGIN:VEVENT
DTSTART;VALUE=DATE:20241011
DTEND;VALUE=DATE:20241012
DTSTAMP:20260420T194535
CREATED:20240925T180021Z
LAST-MODIFIED:20240925T180021Z
UID:8014-1728604800-1728691199@www.friendsofsalmonbay.org
SUMMARY:NO SCHOOL -- State Inservice Day
DESCRIPTION:
URL:https://www.friendsofsalmonbay.org/event/no-school-state-inservice-day/
END:VEVENT
BEGIN:VEVENT
DTSTART;TZID=America/Los_Angeles:20241007T081500
DTEND;TZID=America/Los_Angeles:20241010T163000
DTSTAMP:20260420T194535
CREATED:20240925T180003Z
LAST-MODIFIED:20240925T180003Z
UID:8010-1728288900-1728577800@www.friendsofsalmonbay.org
SUMMARY:Fall Book Fair
DESCRIPTION:Volunteers are crucial to making this event successful. Please sign up for a slot to work the register\, help students find books\, restock and have fun as you are surrounded by joyful readers and lovely books! \nSign up here:  Salmon Bay Community: Salmon Bay Secret Garden Book Fair (Fall) (signupgenius.com)
URL:https://www.friendsofsalmonbay.org/event/fall-book-fair/
END:VEVENT
BEGIN:VEVENT
DTSTART;TZID=America/Los_Angeles:20241004T093000
DTEND;TZID=America/Los_Angeles:20241004T100000
DTSTAMP:20260420T194535
CREATED:20241003T185950Z
LAST-MODIFIED:20241005T175258Z
UID:8040-1728034200-1728036000@www.friendsofsalmonbay.org
SUMMARY:Advocacy CommuniTea
DESCRIPTION:Join us for a weekly chance to connect in-person over advocacy efforts. In the Salmon Bay Cafetorium immediately following Friday Sing.
URL:https://www.friendsofsalmonbay.org/event/coffee-and-communitea/
LOCATION:School Cafetorium
ORGANIZER;CN="Ashley Worobec and Andrea Stringer":MAILTO:fosbadvocacy@gmail.com
END:VEVENT
BEGIN:VEVENT
DTSTART;TZID=America/Los_Angeles:20241001T183000
DTEND;TZID=America/Los_Angeles:20241001T201500
DTSTAMP:20260420T194535
CREATED:20240925T175934Z
LAST-MODIFIED:20240925T180120Z
UID:8004-1727807400-1727813700@www.friendsofsalmonbay.org
SUMMARY:Fall Curriculum Night -- Middle School
DESCRIPTION:The Middle School Curriculum Night will start in the cafetorium for a 10 min. introduction.  Middle School Homeroom Teachers will provide a schedule of individual sessions to follow.
URL:https://www.friendsofsalmonbay.org/event/fall-curriculum-night-middle-school/
END:VEVENT
BEGIN:VEVENT
DTSTART;TZID=America/Los_Angeles:20241001T053000
DTEND;TZID=America/Los_Angeles:20241001T184000
DTSTAMP:20260420T194535
CREATED:20240925T175949Z
LAST-MODIFIED:20240926T164128Z
UID:8002-1727760600-1727808000@www.friendsofsalmonbay.org
SUMMARY:Fall Curriculum Night -- Elementary
DESCRIPTION:The Elementary Curriculum Night will start in the cafetorium for a 10 min. introduction.  Then there will be two 25 min. sessions so families\ncan visit more than one class if they have multiple children.
URL:https://www.friendsofsalmonbay.org/event/fall-curriculum-night-elementary/
END:VEVENT
BEGIN:VEVENT
DTSTART;VALUE=DATE:20241001
DTEND;VALUE=DATE:20241101
DTSTAMP:20260420T194535
CREATED:20240925T175711Z
LAST-MODIFIED:20240925T175711Z
UID:8008-1727740800-1730419199@www.friendsofsalmonbay.org
SUMMARY:Costumes available from the Fall Costume Exchange
DESCRIPTION:Inventory from donated costumes will be organized and ready to pick from. Students may take one for free starting Tues\, Oct 1. Looking forward to the school costume parade at the end of October!
URL:https://www.friendsofsalmonbay.org/event/costumes-available-from-the-fall-costume-exchange/
END:VEVENT
BEGIN:VEVENT
DTSTART;TZID=America/Los_Angeles:20240927T154500
DTEND;TZID=America/Los_Angeles:20240927T180000
DTSTAMP:20260420T194535
CREATED:20240908T151616Z
LAST-MODIFIED:20240908T151616Z
UID:7906-1727451900-1727460000@www.friendsofsalmonbay.org
SUMMARY:Pizza on the Playground
DESCRIPTION:FOSB’s Building Community Initiative is hosting Pizza on the Playground! Students and their families gather\, reconnect\, and energize for the 2024-2025 school year over $3 slices\, $1 drinks\, free snacks\, crafts\, games\, music\, and fun for everyone! Volunteers are needed to help keep things running smoothly – sign up to help!
URL:https://www.friendsofsalmonbay.org/event/pizza-on-the-playground-3/
LOCATION:school playground
END:VEVENT
BEGIN:VEVENT
DTSTART;TZID=America/Los_Angeles:20240919T183000
DTEND;TZID=America/Los_Angeles:20240919T200000
DTSTAMP:20260420T194535
CREATED:20240908T151341Z
LAST-MODIFIED:20240912T234639Z
UID:7903-1726770600-1726776000@www.friendsofsalmonbay.org
SUMMARY:FOSB Sept. Board Meeting
DESCRIPTION:Join us in the Salmon Bay Library for our monthly board meeting. Board meetings are open to all FOSB members – if you have a student at the school\, you are automatically a member and have a vote! Come learn about the work being done by FOSB in support of our school\, and ways YOU can get involved as you are able. \nWe are planning for childcare to be available for potty independent children through COHO (Boys & Girls Club); childcare rsvp’s are helpful but not required. Childcare costs are covered by FOSB. \nIf you are unable to attend in person\, you may join via Zoom. Meeting agendas and previous meeting minutes are posted on our website. Please email fosbchair@gmail.com with any questions.
URL:https://www.friendsofsalmonbay.org/event/fosb-sept-board-meeting/
END:VEVENT
BEGIN:VEVENT
DTSTART;VALUE=DATE:20240917
DTEND;VALUE=DATE:20240920
DTSTAMP:20260420T194535
CREATED:20250309T030453Z
LAST-MODIFIED:20250309T030453Z
UID:8777-1726531200-1726790399@www.friendsofsalmonbay.org
SUMMARY:6th Grade Camp
DESCRIPTION:
URL:https://www.friendsofsalmonbay.org/event/6th-grade-camp/
END:VEVENT
BEGIN:VEVENT
DTSTART;TZID=America/Los_Angeles:20240916T180000
DTEND;TZID=America/Los_Angeles:20240916T190000
DTSTAMP:20260420T194535
CREATED:20240908T151228Z
LAST-MODIFIED:20240908T151228Z
UID:7901-1726509600-1726513200@www.friendsofsalmonbay.org
SUMMARY:Building Community Initiative - Kick-Off Meeting VIRTUAL
DESCRIPTION:FOSB’s Building Community Initiative (BCI) seeks to foster communication and connection among families within and across grade-levels in fun and meaningful ways. This work is achieved through the generous collaboration among a network of grade-level parent representatives and their friendly grade-level Google groups.  \nTo be added to the appropriate email list(s)\, send an email to sb-join-email@googlegroups.com\, and let us know which grade group(s) you would like to join.  \nInterested in helping out this year and learning more about what we do? Join us for a kick-off meeting on Monday\, Sept 16 at 6:00pm via Zoom (link). It’ll be hosted by the BCI cohort leads\, Chase Treisman\, K-2\, Liila Woods\, 3-5\, and Jackie Thai\, 6-8. If you want to participate\, but are unable to do so or have burning questions or comments\, please email fosb-bci@gmail.com. 
URL:https://www.friendsofsalmonbay.org/event/building-community-initiative-kick-off-meeting-virtual/
LOCATION:Zoom
END:VEVENT
BEGIN:VEVENT
DTSTART;TZID=America/Los_Angeles:20240913T093000
DTEND;TZID=America/Los_Angeles:20240913T100000
DTSTAMP:20260420T194535
CREATED:20240908T150946Z
LAST-MODIFIED:20240908T150946Z
UID:7899-1726219800-1726221600@www.friendsofsalmonbay.org
SUMMARY:Town Hall Get-to-Know Your PTO
DESCRIPTION:FOSB is hosting a town hall and community conversation to offer answers to questions about the PTO. How do we operate? How can someone get involved? What are our biggest needs right now? Bring questions! Bring ideas and energy for things you wish to help make happen! Or simply bring your ears and a coffee mug – we’ll serve coffee. We hope you’ll join us. We will meet in the Cafetorium directly after Friday Sing.
URL:https://www.friendsofsalmonbay.org/event/town-hall-get-to-know-your-pto/
LOCATION:School Cafetorium
ORGANIZER;CN="Julie Sneider":MAILTO:fosbchair@gmail.com
END:VEVENT
BEGIN:VEVENT
DTSTART;TZID=America/Los_Angeles:20240912T190000
DTEND;TZID=America/Los_Angeles:20240912T203000
DTSTAMP:20260420T194535
CREATED:20240908T150522Z
LAST-MODIFIED:20240908T150522Z
UID:7895-1726167600-1726173000@www.friendsofsalmonbay.org
SUMMARY:Community Meet Up & Advocacy
DESCRIPTION:Please join us at Old Stove Gardens (1550 NW 49th St). FOSB is hosting a social and advocacy event. Jay Sasnett\, one of the founding teachers of NOMS – one of the schools that combined to become Salmon Bay – will share about the founding principles of the school which include project based learning\, experiential and outdoor education\, service learning\, etc. We’ll then turn the conversation to the community to brainstorm opportunities to advocate for SB to not be included on the school closures list.
URL:https://www.friendsofsalmonbay.org/event/community-meet-up-advocacy/
LOCATION:Old Stove Gardens\, 1550 NW 49th St\, Seattle\, WA\, 98117\, United States
ORGANIZER;CN="Julie Sneider":MAILTO:fosbchair@gmail.com
END:VEVENT
BEGIN:VEVENT
DTSTART;TZID=America/Los_Angeles:20240908T160000
DTEND;TZID=America/Los_Angeles:20240908T180000
DTSTAMP:20260420T194535
CREATED:20240908T150149Z
LAST-MODIFIED:20240908T150149Z
UID:7893-1725811200-1725818400@www.friendsofsalmonbay.org
SUMMARY:2nd Grade Gathering at Gold Gardens
DESCRIPTION:
URL:https://www.friendsofsalmonbay.org/event/2nd-grade-gathering-at-gold-gardens/
END:VEVENT
BEGIN:VEVENT
DTSTART;TZID=America/Los_Angeles:20240621T080000
DTEND;TZID=America/Los_Angeles:20240621T170000
DTSTAMP:20260420T194535
CREATED:20231210T035646Z
LAST-MODIFIED:20231210T035646Z
UID:7665-1718956800-1718989200@www.friendsofsalmonbay.org
SUMMARY:Last Day of School
DESCRIPTION:
URL:https://www.friendsofsalmonbay.org/event/last-day-of-school/
END:VEVENT
BEGIN:VEVENT
DTSTART;VALUE=DATE:20240619
DTEND;VALUE=DATE:20240620
DTSTAMP:20260420T194535
CREATED:20231210T035405Z
LAST-MODIFIED:20240227T173508Z
UID:7663-1718755200-1718841599@www.friendsofsalmonbay.org
SUMMARY:No School Juneteenth
DESCRIPTION:
URL:https://www.friendsofsalmonbay.org/event/no-school-junteenth/
END:VEVENT
BEGIN:VEVENT
DTSTART;TZID=America/Los_Angeles:20240613T183000
DTEND;TZID=America/Los_Angeles:20240613T200000
DTSTAMP:20260420T194535
CREATED:20230917T200612Z
LAST-MODIFIED:20240528T194022Z
UID:7355-1718303400-1718308800@www.friendsofsalmonbay.org
SUMMARY:June FOSB Board Meeting + End of Year Celebration
DESCRIPTION:Please join us for our last board meeting of the school year. June’s meeting will be FULLY VIRTUAL.  No one will be meeting in the library. \nZoom link: https://us02web.zoom.us/j/83636497160?pwd=ZzhjZXJuVFdPdzJ3UE9VamIzVUJ5UT09  (same link for all FOSB meetings this year)\nMeeting ID: 836 3649 7160\nPasscode: 654321 \nWe are hoping to schedule an end-of-year celebration for the following week – on June 20 – to toast all that we accomplished with YOUR help! Celebration event details to follow.\nBoard meetings are open to all FOSB members. (If you’re an adult with a student at Salmon Bay\, you’re automatically a FOSB member.)  \nMeeting agendas and previous meeting minutes are posted on our website.\nPlease email Fosbchair@gmail.com with any questions.
URL:https://www.friendsofsalmonbay.org/event/june-fosb-board-meeting-end-of-year-celebration/
END:VEVENT
BEGIN:VEVENT
DTSTART;VALUE=DATE:20240612
DTEND;VALUE=DATE:20240614
DTSTAMP:20260420T194535
CREATED:20240120T001650Z
LAST-MODIFIED:20240122T171027Z
UID:7722-1718150400-1718323199@www.friendsofsalmonbay.org
SUMMARY:2nd Grade Class Camp
DESCRIPTION:Salmon Bay K-8 is lucky to have teaching and admin staff who value the camp experience for all grades. FOSB’s role for helping support the success of camp is to provide scholarships and support payment processing as needed. If you want to get involved in helping with the planning and execution of a successful camp for your student’s class/grade\, please reach out to your student’s homeroom teacher.
URL:https://www.friendsofsalmonbay.org/event/2nd-grade-class-camp/
LOCATION:Camp Indianola
END:VEVENT
BEGIN:VEVENT
DTSTART;VALUE=DATE:20240607
DTEND;VALUE=DATE:20240608
DTSTAMP:20260420T194535
CREATED:20240119T235404Z
LAST-MODIFIED:20240122T165938Z
UID:7719-1717718400-1717804799@www.friendsofsalmonbay.org
SUMMARY:Kindergarten Camp Day
DESCRIPTION:Salmon Bay K-8 is lucky to have teaching and admin staff who value the camp experience for all grades. FOSB’s role for helping support the success of camp is to provide scholarships and support payment processing as needed. If you want to get involved in helping with the planning and execution of a successful camp for your student’s class/grade\, please reach out to your student’s homeroom teacher.
URL:https://www.friendsofsalmonbay.org/event/kindergarten-camp-day/
LOCATION:TBD
END:VEVENT
BEGIN:VEVENT
DTSTART;VALUE=DATE:20240605
DTEND;VALUE=DATE:20240608
DTSTAMP:20260420T194535
CREATED:20240119T235224Z
LAST-MODIFIED:20240122T171714Z
UID:7717-1717545600-1717804799@www.friendsofsalmonbay.org
SUMMARY:7th Grade Class Camp
DESCRIPTION:Salmon Bay K-8 is lucky to have teaching and admin staff who value the camp experience for all grades. FOSB’s role for helping support the success of camp is to provide scholarships and support payment processing as needed. If you want to get involved in helping with the planning and execution of a successful camp for your student’s class/grade\, please reach out to your student’s homeroom teacher.
URL:https://www.friendsofsalmonbay.org/event/7th-grade-class-camp/
LOCATION:Naturebridge
END:VEVENT
BEGIN:VEVENT
DTSTART;VALUE=DATE:20240604
DTEND;VALUE=DATE:20240608
DTSTAMP:20260420T194535
CREATED:20240119T235107Z
LAST-MODIFIED:20240122T171828Z
UID:7715-1717459200-1717804799@www.friendsofsalmonbay.org
SUMMARY:8th Grade Class Camp
DESCRIPTION:Salmon Bay K-8 is lucky to have teaching and admin staff who value the camp experience for all grades. FOSB’s role for helping support the success of camp is to provide scholarships and support payment processing as needed. If you want to get involved in helping with the planning and execution of a successful camp for your student’s class/grade\, please reach out to your student’s homeroom teacher.
URL:https://www.friendsofsalmonbay.org/event/8th-grade-class-camp/
END:VEVENT
END:VCALENDAR