BEGIN:VCALENDAR
VERSION:2.0
PRODID:-//Friends of Salmon Bay - ECPv6.15.20//NONSGML v1.0//EN
CALSCALE:GREGORIAN
METHOD:PUBLISH
X-WR-CALNAME:Friends of Salmon Bay
X-ORIGINAL-URL:https://www.friendsofsalmonbay.org
X-WR-CALDESC:Events for Friends of Salmon Bay
REFRESH-INTERVAL;VALUE=DURATION:PT1H
X-Robots-Tag:noindex
X-PUBLISHED-TTL:PT1H
BEGIN:VTIMEZONE
TZID:America/Los_Angeles
BEGIN:DAYLIGHT
TZOFFSETFROM:-0800
TZOFFSETTO:-0700
TZNAME:PDT
DTSTART:20240310T100000
END:DAYLIGHT
BEGIN:STANDARD
TZOFFSETFROM:-0700
TZOFFSETTO:-0800
TZNAME:PST
DTSTART:20241103T090000
END:STANDARD
BEGIN:DAYLIGHT
TZOFFSETFROM:-0800
TZOFFSETTO:-0700
TZNAME:PDT
DTSTART:20250309T100000
END:DAYLIGHT
BEGIN:STANDARD
TZOFFSETFROM:-0700
TZOFFSETTO:-0800
TZNAME:PST
DTSTART:20251102T090000
END:STANDARD
BEGIN:DAYLIGHT
TZOFFSETFROM:-0800
TZOFFSETTO:-0700
TZNAME:PDT
DTSTART:20260308T100000
END:DAYLIGHT
BEGIN:STANDARD
TZOFFSETFROM:-0700
TZOFFSETTO:-0800
TZNAME:PST
DTSTART:20261101T090000
END:STANDARD
END:VTIMEZONE
BEGIN:VEVENT
DTSTART;TZID=America/Los_Angeles:20250605T180000
DTEND;TZID=America/Los_Angeles:20250605T193000
DTSTAMP:20260420T042753
CREATED:20250520T233441Z
LAST-MODIFIED:20250521T155436Z
UID:9009-1749146400-1749151800@www.friendsofsalmonbay.org
SUMMARY:Elementary Instrumental Spring Music Concert
DESCRIPTION:On Thursday\, June 5th\, the wonderful elementary instrumental musicians of Salmon Bay K-8 will be presenting their Spring Music Concert in the auditorium here at the school.  Each of our musical groups will be performing both during the day (2:40pm) for the student body as well as during the evening for friends and family.  Groups include the Beginning Band (flutes/clarinets/trumpets/trombones)\, Beginning Orchestra\, and Advanced Band.  Each of these young musicians has been working hard to prepare for this event and they are excited to be performing for you!
URL:https://www.friendsofsalmonbay.org/event/elementary-instrumental-spring-music-concert/
LOCATION:Salmon Bay Auditorium\, 1810 NW 65th St\, Seattle\, WA\, 98117\, United States
END:VEVENT
BEGIN:VEVENT
DTSTART;TZID=America/Los_Angeles:20250604T190000
DTEND;TZID=America/Los_Angeles:20250604T200000
DTSTAMP:20260420T042753
CREATED:20250531T033304Z
LAST-MODIFIED:20250531T033304Z
UID:9024-1749063600-1749067200@www.friendsofsalmonbay.org
SUMMARY:After School Theater Committee meeting
DESCRIPTION:The After School Theater committee is hosting a meeting on Wed\, June 4th at 7pm to wrap up the year and discuss next year. If you are a parent who is passionate about making sure this program continues and thrives next year\, please consider joining.  Email Eli Edlund – fosbtheatre@gmail.com – for in person address or Zoom link to join.
URL:https://www.friendsofsalmonbay.org/event/after-school-theater-committee-meeting/
ORGANIZER;CN="Eli Edlund":MAILTO:fosbtheatre@gmail.com
END:VEVENT
BEGIN:VEVENT
DTSTART;VALUE=DATE:20250604
DTEND;VALUE=DATE:20250607
DTSTAMP:20260420T042753
CREATED:20250309T030248Z
LAST-MODIFIED:20250309T030248Z
UID:8769-1748995200-1749254399@www.friendsofsalmonbay.org
SUMMARY:7th Grade Camp
DESCRIPTION:
URL:https://www.friendsofsalmonbay.org/event/7th-grade-camp/
END:VEVENT
BEGIN:VEVENT
DTSTART;VALUE=DATE:20250603
DTEND;VALUE=DATE:20250607
DTSTAMP:20260420T042753
CREATED:20250309T030227Z
LAST-MODIFIED:20250309T030227Z
UID:8767-1748908800-1749254399@www.friendsofsalmonbay.org
SUMMARY:8th Grade Camp
DESCRIPTION:
URL:https://www.friendsofsalmonbay.org/event/8th-grade-camp/
END:VEVENT
BEGIN:VEVENT
DTSTART;VALUE=DATE:20250603
DTEND;VALUE=DATE:20250605
DTSTAMP:20260420T042753
CREATED:20250309T030207Z
LAST-MODIFIED:20250309T030207Z
UID:8765-1748908800-1749081599@www.friendsofsalmonbay.org
SUMMARY:1st Grade Camp
DESCRIPTION:
URL:https://www.friendsofsalmonbay.org/event/1st-grade-camp/
END:VEVENT
BEGIN:VEVENT
DTSTART;VALUE=DATE:20250602
DTEND;VALUE=DATE:20250605
DTSTAMP:20260420T042753
CREATED:20250309T030147Z
LAST-MODIFIED:20250309T030147Z
UID:8763-1748822400-1749081599@www.friendsofsalmonbay.org
SUMMARY:4th Grade Camp
DESCRIPTION:
URL:https://www.friendsofsalmonbay.org/event/4th-grade-camp/
END:VEVENT
BEGIN:VEVENT
DTSTART;TZID=America/Los_Angeles:20250601T190000
DTEND;TZID=America/Los_Angeles:20250601T203000
DTSTAMP:20260420T042753
CREATED:20250510T174231Z
LAST-MODIFIED:20250510T174231Z
UID:8955-1748804400-1748809800@www.friendsofsalmonbay.org
SUMMARY:June FOSB Finance Committee Meeting
DESCRIPTION:Location: Join our Zoom Meetings using this Link. \n  Meeting ID: 469 595 1579 \n      Passcode: budget
URL:https://www.friendsofsalmonbay.org/event/june-fosb-finance-committee-meeting/
END:VEVENT
BEGIN:VEVENT
DTSTART;TZID=America/Los_Angeles:20250529T190000
DTEND;TZID=America/Los_Angeles:20250529T203000
DTSTAMP:20260420T042753
CREATED:20250422T190726Z
LAST-MODIFIED:20250422T233635Z
UID:8900-1748545200-1748550600@www.friendsofsalmonbay.org
SUMMARY:Middle School Band Concert
DESCRIPTION:
URL:https://www.friendsofsalmonbay.org/event/middle-school-band-concert/
LOCATION:Salmon Bay Auditorium\, 1810 NW 65th St\, Seattle\, WA\, 98117\, United States
END:VEVENT
BEGIN:VEVENT
DTSTART;TZID=America/Los_Angeles:20250528T183000
DTEND;TZID=America/Los_Angeles:20250528T193000
DTSTAMP:20260420T042753
CREATED:20250324T183410Z
LAST-MODIFIED:20250410T044701Z
UID:8820-1748457000-1748460600@www.friendsofsalmonbay.org
SUMMARY:Preventing Risky Behavior: Vaping and Other Substance Use & Abuse
DESCRIPTION:Parents of Tweens & Teens \nPrevent Risky Behavior – vaping and other substance use & abuse \nSeattle Public Schools’ Lisa Davidson\, Prevention and Intervention Manager\, and Nathalie Meus\, Healthy Schools Coordinator\, will review: \n– Salmon Bay’s Healthy Youth Survey results (conducted last year) regarding student behaviors and attitudes toward vaping and drugs \n– Key strategies for preventing risky behavior \n– How to have tough conversations \n– Products and trends – vaping\, over the counter drugs\, and much more \nQuestions and open discussion afterwards. Principal Dixon and middle school counselor Rob Bright plan on attending to help provide context and insight. \nFamilies with elementary students\, this event is also for you! Drug prevention starts with parents learning how to talk with their children about difficult topics. Most likely\, children in elementary school have not begun to use alcohol\, tobacco\, or any other kind of drug. It’s better to talk before children are exposed\, which is exactly why elementary school is a good time to start talking about the dangers of drug use so you can prepare your child for a time when drugs may be offered. Join us! \nThis informative evening is for Salmon Bay parents and caregivers – ADULTS ONLY. Free childcare is available for potty independent kids. Event and childcare RSVP is very helpful – walk in childcare available as space allows. Pizza dinner will be served to kiddos! We look forward to seeing you there! \nRSVP:  https://forms.gle/qQkKmr9oLJVCK9HW6 \nReach out to FOSB Co-chairs with any questions: fosbchair@gmail.com
URL:https://www.friendsofsalmonbay.org/event/preventing-risky-behavior-vaping-and-other-substance-use-abuse/
LOCATION:School Cafetorium
ATTACH;FMTTYPE=image/png:https://www.friendsofsalmonbay.org/wp-content/uploads/2025/03/Facebook-Event-Image-Vaping.png
END:VEVENT
BEGIN:VEVENT
DTSTART;TZID=America/Los_Angeles:20250527T180000
DTEND;TZID=America/Los_Angeles:20250527T193000
DTSTAMP:20260420T042753
CREATED:20250523T203017Z
LAST-MODIFIED:20250523T203017Z
UID:9018-1748368800-1748374200@www.friendsofsalmonbay.org
SUMMARY:FOSB Open House
DESCRIPTION:Tuesday\, May 27th at 6pm at Old Stove Brewing\n(family friendly location\, bring your kids if you’d like!)\nJoin us to learn more about FOSB\, our Salmon Bay PTO! This is your time to learn more about how FOSB operates\, what volunteer roles are needed for the next school year\, and ways that you can get involved throughout the year. We will be sharing what the estimated time commitments look like\, responsibilities for each role\, and what to expect if you decide to get involved. This is a no pressure event meaning no asks will be made of anyone at the open houses. If afterwards you have questions or would like to volunteer we’d be happy to chat further!
URL:https://www.friendsofsalmonbay.org/event/fosb-open-house/
LOCATION:Old Stove Gardens\, 1550 NW 49th St\, Seattle\, WA\, 98117\, United States
END:VEVENT
BEGIN:VEVENT
DTSTART;VALUE=DATE:20250526
DTEND;VALUE=DATE:20250527
DTSTAMP:20260420T042753
CREATED:20241108T210247Z
LAST-MODIFIED:20241108T210247Z
UID:8432-1748217600-1748303999@www.friendsofsalmonbay.org
SUMMARY:NO SCHOOL -- Memorial Day
DESCRIPTION:
URL:https://www.friendsofsalmonbay.org/event/no-school-memorial-day-2/
END:VEVENT
BEGIN:VEVENT
DTSTART;VALUE=DATE:20250523
DTEND;VALUE=DATE:20250524
DTSTAMP:20260420T042753
CREATED:20250422T190623Z
LAST-MODIFIED:20250422T190623Z
UID:8897-1747958400-1748044799@www.friendsofsalmonbay.org
SUMMARY:Middle School Theater Performance
DESCRIPTION:
URL:https://www.friendsofsalmonbay.org/event/middle-school-theater-performance-2/
END:VEVENT
BEGIN:VEVENT
DTSTART;VALUE=DATE:20250522
DTEND;VALUE=DATE:20250523
DTSTAMP:20260420T042753
CREATED:20250422T190604Z
LAST-MODIFIED:20250422T190604Z
UID:8895-1747872000-1747958399@www.friendsofsalmonbay.org
SUMMARY:Middle School Theater performance
DESCRIPTION:
URL:https://www.friendsofsalmonbay.org/event/middle-school-theater-performance/
END:VEVENT
BEGIN:VEVENT
DTSTART;VALUE=DATE:20250519
DTEND;VALUE=DATE:20250522
DTSTAMP:20260420T042753
CREATED:20250309T030339Z
LAST-MODIFIED:20250309T030339Z
UID:8773-1747612800-1747871999@www.friendsofsalmonbay.org
SUMMARY:3rd Grade Camp
DESCRIPTION:
URL:https://www.friendsofsalmonbay.org/event/3rd-grade-camp/
END:VEVENT
BEGIN:VEVENT
DTSTART;TZID=America/Los_Angeles:20250515T180000
DTEND;TZID=America/Los_Angeles:20250515T193000
DTSTAMP:20260420T042753
CREATED:20241015T205204Z
LAST-MODIFIED:20250508T054146Z
UID:8092-1747332000-1747337400@www.friendsofsalmonbay.org
SUMMARY:FOSB May Board meeting
DESCRIPTION:*UPDATED START TIME: 6pm* \nJoin us in the Salmon Bay Library for our monthly board meeting. Board meetings are open to all FOSB members – if you have a student at the school\, you are automatically a member and have a vote! Come learn about the work being done by FOSB in support of our school\, and ways YOU can get involved as you are able. \nThere are two votes that require a quorum of 20 non-directors present to pass: our 2025-26 FOSB budget and our 2025-2026 slate of directors and officers. So even if you haven’t attended any FOSB meetings this year\, this is the one! We will also be voting on adoption of some policies that our accountant advises we incorporate. \nWe’ll hold voting in the first portion of our meeting so that 7th and 8th grade camp chaperone parents can make it to the chaperone meeting starting at 7pm – please consider coming to the school early to help us vote! The second portion of our meeting will be a FOSB Open House where we’d like to highlight the various committee chairs and open conversation and brainstorming to plan for next year. This will be an opportunity to put faces to names of some of the people working behind the scenes of FOSB and get ideas for ways you might like to be involved next year.  \nChildcare is available for potty independent children through COHO (Boys & Girls Club); childcare rsvp’s are helpful but not required. Childcare costs are covered by FOSB. \nIf you are unable to attend in person\, you may join via Zoom. Meeting agendas and previous meeting minutes are posted on our website. Please email fosbchair@gmail.com with any questions.
URL:https://www.friendsofsalmonbay.org/event/fosb-may-board-meeting/
END:VEVENT
BEGIN:VEVENT
DTSTART;TZID=America/Los_Angeles:20250515T173000
DTEND;TZID=America/Los_Angeles:20250515T183000
DTSTAMP:20260420T042753
CREATED:20250513T162533Z
LAST-MODIFIED:20250513T164514Z
UID:8961-1747330200-1747333800@www.friendsofsalmonbay.org
SUMMARY:Kindergarten Welcome!
DESCRIPTION:Welcome to Salmon Bay K-8!  We are so pleased that you will be joining us this fall.  Salmon Bay is a special place for children beginning their public-school experience.  We pride ourselves on offering a warm\, caring environment where children can develop in their own unique way and where the adults work to ensure that each child be will successful.  We look forward to watching children grow as they learn through play\, hands on experiences and collaborative learning. \nWe hope you can join us on May 15th at 5:30 pm on the playground for our Kindergarten Family Welcome Night.  This is a great opportunity to meet our staff and other new Kindergarten families.
URL:https://www.friendsofsalmonbay.org/event/kindergarten-welcome/
LOCATION:school playground
END:VEVENT
BEGIN:VEVENT
DTSTART;TZID=America/Los_Angeles:20250514T183000
DTEND;TZID=America/Los_Angeles:20250514T200000
DTSTAMP:20260420T042753
CREATED:20250114T191603Z
LAST-MODIFIED:20250304T001419Z
UID:8613-1747247400-1747252800@www.friendsofsalmonbay.org
SUMMARY:Anita Garcia Morales: Conversations Across Differences
DESCRIPTION:Anita Garcia Morales\, Racing to Equity co-founder and Salmon Bay K-8 staff mentor on restorative justice and cultural humility\, invites our school community to join together for an evening exploring authentic conversations across differences and cultural humility. \nShe will provide insight\, offer guidance\, and facilitate an interactive exercise and discussion to deepen our awareness\, sensitivity\, and humility concerning our respective cultural situatedness to strengthen our practices of listening and speaking to others across differences. \nAnita would love to hear from you!  Share your questions\, thoughts\, and/or stories related to this topic with Anita in advance of the event here.  There will also be opportunities for sharing during the event. \nFree childcare and pizza is available for potty-independent kids of adult(s) attending the event. Sign-up for childcare here to guarantee a spot. Walk-ins welcome\, space permitting. \nIf available\, please volunteer here to help the event run smoothly. \nThis event is organized by the Friends of Salmon Bay (FOSB) Parent Information Exchange Committee (PIE) with the generous support of the Racial Equity Fund (REF). Contact: Sylvia Loh\, syl@sylvialoh.com.
URL:https://www.friendsofsalmonbay.org/event/racing-to-equity/
LOCATION:school library
ATTACH;FMTTYPE=image/jpeg:https://www.friendsofsalmonbay.org/wp-content/uploads/2025/01/Anita-Garcia-Morales-Event.jpg
ORGANIZER;CN="Sylvia Loh":MAILTO:fosbpie@gmail.com
END:VEVENT
BEGIN:VEVENT
DTSTART;VALUE=DATE:20250511
DTEND;VALUE=DATE:20250517
DTSTAMP:20260420T042753
CREATED:20250425T171446Z
LAST-MODIFIED:20250514T205455Z
UID:8906-1746921600-1747439999@www.friendsofsalmonbay.org
SUMMARY:Tutta Bella "Easy as Pie" Fundraiser
DESCRIPTION:EXTENDED TO FRIDAY MAY 16th! \nWe’ve partnered with our friends at Tutta Bella to raise funds for Salmon Bay.  Tutta Bella is donating a portion of all net sales directly to FOSB! \nBetween May 11 and May 16\, use the code EasyAsPieFOSB when you check out online or order at the restaurant and a portion of the proceeds will go to FOSB. \nShare the code with your friends and family too!
URL:https://www.friendsofsalmonbay.org/event/tutta-bella-easy-as-pie-fundraiser/
ATTACH;FMTTYPE=application/pdf:https://www.friendsofsalmonbay.org/wp-content/uploads/2025/04/05.11.25-Friends-of-Salmon-Bay.pdf
END:VEVENT
BEGIN:VEVENT
DTSTART;TZID=America/Los_Angeles:20250509T190000
DTEND;TZID=America/Los_Angeles:20250509T220000
DTSTAMP:20260420T042753
CREATED:20250315T182139Z
LAST-MODIFIED:20250425T213541Z
UID:8794-1746817200-1746828000@www.friendsofsalmonbay.org
SUMMARY:Salmon Bay Spring Fundraiser: Under the Salish Sea
DESCRIPTION:Join us for A Night Under the Salish Sea! On May 9th\, our fundraising efforts will culminate in a grown-ups night out community event at Old Stove Gardens. With tickets starting at just $10\, enjoy games\, music\, drinks\, and food while coming together to support our school! \nDate: May 9th\, 2025 • 7-10pm\nLocation: Old Stove Gardens\, Ballard\n(All purchases\, ticket sales and donations go directly toward our funding goal) \nCheck our auction and party links regularly and follow on Instagram – more items & events will be added throughout the month! \nHere’s how you can help right now: \n\nDirect Giving Donations — Ask friends\, family\, coworkers\, and neighbors to chip in!\nBuy tickets — Celebrate with us in person and make a difference while having fun.\nBid in the Online Auction — Amazing experiences and items are up for grabs!\nJoin a Buy-In Party — Fun events for kids\, adults\, and families
URL:https://www.friendsofsalmonbay.org/event/salmon-bay-spring-fundraiser-time-tbd/
LOCATION:Old Stove Gardens\, 1550 NW 49th St\, Seattle\, WA\, 98117\, United States
END:VEVENT
BEGIN:VEVENT
DTSTART;VALUE=DATE:20250505
DTEND;VALUE=DATE:20250510
DTSTAMP:20260420T042753
CREATED:20250428T181358Z
LAST-MODIFIED:20250428T181358Z
UID:8926-1746403200-1746835199@www.friendsofsalmonbay.org
SUMMARY:Staff Appreciation Week!
DESCRIPTION:We are seeking volunteer help and donations to make an amazing Appreciation week for our beloved Salmon Bay Staff!  See links below for how you can help! \nMonday\, May 5 – Coffee runners are needed! Sign up here!\nTuesday\, May 6 – Help us supply a delicious breakfast for staff. Sign up here!\nWednesday\, May 7 – Lunch provided by FOSB\nThursday\, May 8 – Send a thank you note\, decorate a door or fulfill a staff wishlist! Sign up for letters and doors here! Staff Wish Lists Here!\nFriday\, May 9 – Salmon Bay Greenhouse. Sign up here!
URL:https://www.friendsofsalmonbay.org/event/staff-appreciation-week-2/
END:VEVENT
BEGIN:VEVENT
DTSTART;TZID=America/Los_Angeles:20250504T190000
DTEND;TZID=America/Los_Angeles:20250504T203000
DTSTAMP:20260420T042753
CREATED:20250114T185918Z
LAST-MODIFIED:20250114T185918Z
UID:8598-1746385200-1746390600@www.friendsofsalmonbay.org
SUMMARY:FOSB Budget Meeting
DESCRIPTION:Join our zoom Meetings using this link.  Please contact fosbtreasurer@gmail.com with questions.
URL:https://www.friendsofsalmonbay.org/event/fosb-budget-meeting-5/
LOCATION:Zoom
END:VEVENT
BEGIN:VEVENT
DTSTART;TZID=America/Los_Angeles:20250503T193000
DTEND;TZID=America/Los_Angeles:20250503T210000
DTSTAMP:20260420T042753
CREATED:20250307T190630Z
LAST-MODIFIED:20250425T211955Z
UID:8760-1746300600-1746306000@www.friendsofsalmonbay.org
SUMMARY:Salmon Bay Night at Sounders FC
DESCRIPTION:Enjoy a fun evening at the Sounders game with your Salmon Bay friends!\n\nTickets no longer available. See you at the match!
URL:https://www.friendsofsalmonbay.org/event/salmon-bay-night-at-sounders-fc/
LOCATION:Lumen Field\, 800 Occidental Ave S\, Seattle\, WA
ATTACH;FMTTYPE=image/jpeg:https://www.friendsofsalmonbay.org/wp-content/uploads/2025/03/SB-Sounders-25-jpeg._001.jpeg
ORGANIZER;CN="Sylvia Loh":MAILTO:fosbpie@gmail.com
END:VEVENT
BEGIN:VEVENT
DTSTART;TZID=America/Los_Angeles:20250430T180000
DTEND;TZID=America/Los_Angeles:20250430T200000
DTSTAMP:20260420T042753
CREATED:20240210T170833Z
LAST-MODIFIED:20250324T161137Z
UID:7774-1746036000-1746043200@www.friendsofsalmonbay.org
SUMMARY:Multicultural Celebration & Potluck
DESCRIPTION:Join us for the Multicultural Celebration & Potluck on Wednesday\, April 30th from 6:00-8:00 PM in the cafetorium. This event aspires to bring all Salmon By K-8 students\, staff\, and their families together to share and celebrate our diverse cultures\, heritages\, and whole selves through food\, arts & crafts\, music\, community projects\, and live performances. \nThe magic of this event comes from our community sharing and celebrating that which is meaningful to their culture. There are many ways to participate\, so please consider signing up. \n\nLead an arts & crafts project\nContribute a dish to the community recipe book\nBring food to the event\nHelp event setup/cleanup\nEmail fosbbci@gmail.com by April 18th if you are interested in performing\n\nEveryone welcome\, come as you are\, and bring your appetite!
URL:https://www.friendsofsalmonbay.org/event/multicultural-celebration-potluck/
LOCATION:School Cafetorium
ATTACH;FMTTYPE=application/pdf:https://www.friendsofsalmonbay.org/wp-content/uploads/2024/02/Multicultural-Celebration-and-Potluck.pdf
END:VEVENT
BEGIN:VEVENT
DTSTART;TZID=America/Los_Angeles:20250427T130000
DTEND;TZID=America/Los_Angeles:20250427T130000
DTSTAMP:20260420T042753
CREATED:20250328T063520Z
LAST-MODIFIED:20250425T211857Z
UID:8826-1745758800-1745758800@www.friendsofsalmonbay.org
SUMMARY:Salmon Bay Night at the Mariners
DESCRIPTION:4/27 at 1:10pm Marlins vs Mariners\n\nTickets no longer available. Cheer loudly if you attend!
URL:https://www.friendsofsalmonbay.org/event/salmon-bay-night-at-the-mariners/
END:VEVENT
BEGIN:VEVENT
DTSTART;TZID=America/Los_Angeles:20250424T183000
DTEND;TZID=America/Los_Angeles:20250424T200000
DTSTAMP:20260420T042753
CREATED:20241015T205107Z
LAST-MODIFIED:20250422T190813Z
UID:8090-1745519400-1745524800@www.friendsofsalmonbay.org
SUMMARY:FOSB April Board meeting
DESCRIPTION:UPDATE: April’s meeting will be fully online/virtual. No one will be meeting in the school library. Join via Zoom. \nBoard meetings are open to all FOSB members – if you have a student at the school\, you are automatically a member and have a vote! Come learn about the work being done by FOSB in support of our school\, and ways YOU can get involved as you are able. Our monthly board meetings enable our directors to focus on planning and implementing all the activities and programs that FOSB supports\, and provide an opportunity for school administration\, teachers\, and our volunteer coordinator to provide updates to our parent community. \nJoin via Zoom. Meeting agendas and previous meeting minutes are posted on our website. Please email fosbchair@gmail.com with any questions.
URL:https://www.friendsofsalmonbay.org/event/fosb-april-board-meeting/
END:VEVENT
BEGIN:VEVENT
DTSTART;VALUE=DATE:20250422
DTEND;VALUE=DATE:20250423
DTSTAMP:20260420T042753
CREATED:20230518T233416Z
LAST-MODIFIED:20250318T213337Z
UID:6973-1745280000-1745366399@www.friendsofsalmonbay.org
SUMMARY:MOD Pizza Fundraiser
DESCRIPTION:Take a break from cooking and join FOSB at our fundraiser at the Ballard MOD Pizza (6010 15th Ave NW)! \nOn April 22\, mention our fundraiser at checkout and FOSB will receive 25% of all proceeds!  Or\, if you order online\, use the coupon/fundraiser code MODGIVES25 at checkout for pick-up and delivery orders. \nThank you for supporting FOSB and enjoy your pizza!
URL:https://www.friendsofsalmonbay.org/event/mod-pizza-fundraiser-all-day/
LOCATION:Mod Pizza Ballard\, 6010 15th Ave NW\, Seattle\, WA\, 98107
ATTACH;FMTTYPE=application/pdf:https://www.friendsofsalmonbay.org/wp-content/uploads/2023/05/MOD-Pizza-fundraiser-flyer-April-22.pdf
END:VEVENT
BEGIN:VEVENT
DTSTART;VALUE=DATE:20250414
DTEND;VALUE=DATE:20250419
DTSTAMP:20260420T042753
CREATED:20241108T210227Z
LAST-MODIFIED:20241108T210227Z
UID:8430-1744588800-1745020799@www.friendsofsalmonbay.org
SUMMARY:NO SCHOOL -- Spring Break
DESCRIPTION:
URL:https://www.friendsofsalmonbay.org/event/no-school-spring-break-2/
END:VEVENT
BEGIN:VEVENT
DTSTART;TZID=America/Los_Angeles:20250406T190000
DTEND;TZID=America/Los_Angeles:20250406T203000
DTSTAMP:20260420T042753
CREATED:20250114T185838Z
LAST-MODIFIED:20250114T185838Z
UID:8596-1743966000-1743971400@www.friendsofsalmonbay.org
SUMMARY:FOSB Budget Meeting
DESCRIPTION:Join our zoom Meetings using this link.  Please contact fosbtreasurer@gmail.com with questions.
URL:https://www.friendsofsalmonbay.org/event/fosb-budget-meeting-4/
LOCATION:Zoom
END:VEVENT
BEGIN:VEVENT
DTSTART;VALUE=DATE:20250404
DTEND;VALUE=DATE:20250405
DTSTAMP:20260420T042753
CREATED:20250307T172247Z
LAST-MODIFIED:20250307T172247Z
UID:8758-1743724800-1743811199@www.friendsofsalmonbay.org
SUMMARY:Elementary SEP
DESCRIPTION:
URL:https://www.friendsofsalmonbay.org/event/elementary-sep-3/
END:VEVENT
BEGIN:VEVENT
DTSTART;VALUE=DATE:20250404
DTEND;VALUE=DATE:20250405
DTSTAMP:20260420T042753
CREATED:20250306T174851Z
LAST-MODIFIED:20250306T174851Z
UID:8746-1743724800-1743811199@www.friendsofsalmonbay.org
SUMMARY:Middle School SEP
DESCRIPTION:
URL:https://www.friendsofsalmonbay.org/event/middle-school-sep-4/
END:VEVENT
END:VCALENDAR